BEGIN:VCALENDAR
VERSION:2.0
PRODID:icalendar-ruby
CALSCALE:GREGORIAN
METHOD:PUBLISH
BEGIN:VEVENT
DTSTAMP:20260421T191635Z
UID:a469a337-e1cd-4ac9-9a37-a7730b4eb7cf
DTSTART:20190403T183000
DTEND:20190403T220000
DESCRIPTION:<p>Shimmy Beach Club's Absolut Movie Nights is back this April 
 with the screening of the Tarantino favourite and cult classic\, Kill Bill
  VOL 1. The Absolut lounge will be transformed into an indoor cinema and w
 armed up for the occasion with heaters\, blankets and comfortable lounge c
 ome cinema-style seating\, creating a cosy\, relaxing atmosphere for Absol
 ut movie-watching bliss.</p><p><br></p><p>Tickets are priced at R260.00 an
 d will include an Absolut Vodka arrival cocktail\, Margarita pizza and the
  movie essentials… popcorn and old-fashioned candyfloss of course!</p><p
 ><br></p><p>Doors open at 18:30\, movie starts at 19:30.</p>
LOCATION:12 South Arm Road\, V&A Waterfront\, Cape Town\, Western Cape\, 80
 01
SUMMARY:Absolut Movie Nights: Kill Bill VOL 1
URL;VALUE=URI:https://shimmy.howler.co.za/SBCKillBill1
END:VEVENT
END:VCALENDAR
